BEGIN:VCALENDAR
VERSION:2.0
PRODID:-//manufaktur by BAIER - ECPv6.15.20//NONSGML v1.0//EN
CALSCALE:GREGORIAN
METHOD:PUBLISH
X-WR-CALNAME:manufaktur by BAIER
X-ORIGINAL-URL:https://manufaktur-baier.de
X-WR-CALDESC:Veranstaltungen für manufaktur by BAIER
REFRESH-INTERVAL;VALUE=DURATION:PT1H
X-Robots-Tag:noindex
X-PUBLISHED-TTL:PT1H
BEGIN:VTIMEZONE
TZID:Europe/Berlin
BEGIN:DAYLIGHT
TZOFFSETFROM:+0100
TZOFFSETTO:+0200
TZNAME:CEST
DTSTART:20260329T010000
END:DAYLIGHT
BEGIN:STANDARD
TZOFFSETFROM:+0200
TZOFFSETTO:+0100
TZNAME:CET
DTSTART:20261025T010000
END:STANDARD
BEGIN:DAYLIGHT
TZOFFSETFROM:+0100
TZOFFSETTO:+0200
TZNAME:CEST
DTSTART:20270328T010000
END:DAYLIGHT
BEGIN:STANDARD
TZOFFSETFROM:+0200
TZOFFSETTO:+0100
TZNAME:CET
DTSTART:20271031T010000
END:STANDARD
BEGIN:DAYLIGHT
TZOFFSETFROM:+0100
TZOFFSETTO:+0200
TZNAME:CEST
DTSTART:20280326T010000
END:DAYLIGHT
BEGIN:STANDARD
TZOFFSETFROM:+0200
TZOFFSETTO:+0100
TZNAME:CET
DTSTART:20281029T010000
END:STANDARD
END:VTIMEZONE
BEGIN:VEVENT
DTSTART;TZID=Europe/Berlin:20270106T130000
DTEND;TZID=Europe/Berlin:20270106T190000
DTSTAMP:20260424T041958
CREATED:20260317T134508Z
LAST-MODIFIED:20260317T134508Z
UID:15036-1799240400-1799262000@manufaktur-baier.de
SUMMARY:ABSCHIEDSGLÜHEN MIT WINTERGRILLEN
DESCRIPTION:🔥 ABSCHIEDS-GLÜHEN 🔥\nWir lassen die Saison 2026 mit Glühwein & Punsch ausklingen! \nKommt vorbei\, wir freuen uns auf euch \nWir freuen uns auf dich! \n 
URL:https://manufaktur-baier.de/event/abschiedsgluehen-mit-wintergrillen/
CATEGORIES:Essen,Trinken
ATTACH;FMTTYPE=image/jpeg:https://manufaktur-baier.de/wp-content/uploads/2026/03/2027-01-06-ABSCHIEDGLUeHEN-UND-WINTERGRILLEN.jpg
END:VEVENT
END:VCALENDAR