BEGIN:VCALENDAR
VERSION:2.0
PRODID:-//manufaktur by BAIER - ECPv6.15.20//NONSGML v1.0//EN
CALSCALE:GREGORIAN
METHOD:PUBLISH
X-WR-CALNAME:manufaktur by BAIER
X-ORIGINAL-URL:https://manufaktur-baier.de
X-WR-CALDESC:Veranstaltungen für manufaktur by BAIER
REFRESH-INTERVAL;VALUE=DURATION:PT1H
X-Robots-Tag:noindex
X-PUBLISHED-TTL:PT1H
BEGIN:VTIMEZONE
TZID:Europe/Berlin
BEGIN:DAYLIGHT
TZOFFSETFROM:+0100
TZOFFSETTO:+0200
TZNAME:CEST
DTSTART:20250330T010000
END:DAYLIGHT
BEGIN:STANDARD
TZOFFSETFROM:+0200
TZOFFSETTO:+0100
TZNAME:CET
DTSTART:20251026T010000
END:STANDARD
BEGIN:DAYLIGHT
TZOFFSETFROM:+0100
TZOFFSETTO:+0200
TZNAME:CEST
DTSTART:20260329T010000
END:DAYLIGHT
BEGIN:STANDARD
TZOFFSETFROM:+0200
TZOFFSETTO:+0100
TZNAME:CET
DTSTART:20261025T010000
END:STANDARD
BEGIN:DAYLIGHT
TZOFFSETFROM:+0100
TZOFFSETTO:+0200
TZNAME:CEST
DTSTART:20270328T010000
END:DAYLIGHT
BEGIN:STANDARD
TZOFFSETFROM:+0200
TZOFFSETTO:+0100
TZNAME:CET
DTSTART:20271031T010000
END:STANDARD
END:VTIMEZONE
BEGIN:VEVENT
DTSTART;TZID=Europe/Berlin:20261029T190000
DTEND;TZID=Europe/Berlin:20261029T210000
DTSTAMP:20260423T231923
CREATED:20260313T152841Z
LAST-MODIFIED:20260313T152841Z
UID:10000320-1793300400-1793307600@manufaktur-baier.de
SUMMARY:ERLEBNISREICHER TREFF
DESCRIPTION:IMPULSVORTRÄGE \nFreut euch auf inspirierende Impulsvorträge zu verschiedenen Themen mit wechselnden Referenten. Sie geben Denkanstöße\, neue Perspektiven und spannende Gesprächsimpulse für den anschließenden Austausch. \n28.05. I 25.06. I 30.07. I 27.08. I 29.10.26\njeweils 19-20 Uhr in der Jurte\, danach offener Austausch im Café \n  \nTREFFPUNKT \nmanufaktur by BAIER I Zeppelinstr. 6 I 89284 Pfaffenhofen \n  \nHabt ihr Fragen\, Ideen oder Anregungen? \nSchreibt uns gerne: erlebnisreich.ev@gmx.de \nBis zum nächsten ErlebnisReicher Treff\, bringt gerne Freunde\, Bekannte & Interessierte mit. \nAlle sind herzlich willkommen!\nWir freuen uns auf euch! \nEuer ErlebnisReich Team
URL:https://manufaktur-baier.de/event/erlebnisreicher-treff/2026-10-29/
CATEGORIES:ErlebnisReich e.V.
ATTACH;FMTTYPE=image/jpeg:https://manufaktur-baier.de/wp-content/uploads/2026/03/Flyer-2026-_-S.1.jpg
END:VEVENT
END:VCALENDAR