BEGIN:VCALENDAR
VERSION:2.0
PRODID:-//manufaktur by BAIER - ECPv6.15.20//NONSGML v1.0//EN
CALSCALE:GREGORIAN
METHOD:PUBLISH
X-WR-CALNAME:manufaktur by BAIER
X-ORIGINAL-URL:https://manufaktur-baier.de
X-WR-CALDESC:Veranstaltungen für manufaktur by BAIER
REFRESH-INTERVAL;VALUE=DURATION:PT1H
X-Robots-Tag:noindex
X-PUBLISHED-TTL:PT1H
BEGIN:VTIMEZONE
TZID:Europe/Berlin
BEGIN:DAYLIGHT
TZOFFSETFROM:+0100
TZOFFSETTO:+0200
TZNAME:CEST
DTSTART:20250330T010000
END:DAYLIGHT
BEGIN:STANDARD
TZOFFSETFROM:+0200
TZOFFSETTO:+0100
TZNAME:CET
DTSTART:20251026T010000
END:STANDARD
BEGIN:DAYLIGHT
TZOFFSETFROM:+0100
TZOFFSETTO:+0200
TZNAME:CEST
DTSTART:20260329T010000
END:DAYLIGHT
BEGIN:STANDARD
TZOFFSETFROM:+0200
TZOFFSETTO:+0100
TZNAME:CET
DTSTART:20261025T010000
END:STANDARD
BEGIN:DAYLIGHT
TZOFFSETFROM:+0100
TZOFFSETTO:+0200
TZNAME:CEST
DTSTART:20270328T010000
END:DAYLIGHT
BEGIN:STANDARD
TZOFFSETFROM:+0200
TZOFFSETTO:+0100
TZNAME:CET
DTSTART:20271031T010000
END:STANDARD
END:VTIMEZONE
BEGIN:VEVENT
DTSTART;TZID=Europe/Berlin:20260419T100100
DTEND;TZID=Europe/Berlin:20260419T120000
DTSTAMP:20260423T220057
CREATED:20260220T124610Z
LAST-MODIFIED:20260313T151849Z
UID:10000204-1776592860-1776600000@manufaktur-baier.de
SUMMARY:FRÜHSTÜCKSBUFFET
DESCRIPTION:Herzlich willkommen zum FRÜHSTÜCKSBUFFET  \nWählt euren Frühstücksplatz nach Lust und Laune und dann erwartet euch unser FRÜHSTÜCKSBUFFET liebevoll angerichtet im zauberhaften Floristikbereich. \n  \nHeiße und kalte Getränke\nl Kaffee* fair gehandelt – wahlweise mit Milch* oder Hafermilch*\nl Tee-Variationen* von Kräuter Wagener aus Pfaffenhofen\nl Orangensaft*\nl gefiltertes ionisiertes Wasser \nFrische Backwaren\nl Backwaren – Brot* & Brötchen\nl Brezeln\nl Croissants*\nl Süßgebäck* \nFür den süßen Morgen\nl selbstgemachte Pancakes*\nl Schoko-Creme*\nl Erdnussbutter*\nl Honig*\nl Marmelade* – abwechselnd 2 Sorten zur Auswahl \nKernige Power\nl verschiedene Müslivariationen* \nDie Milch macht‘s\nl Naturjoghurt*\nl Butter* \nAufstriche\nl Frischkäse* – abwechselnd 2 Sorten zur Auswahl\nl Aufstrich  – abwechselnd \nObst und Gemüse\nl Obstsalat *\nl Gemüseplatte mit Gemüse der Saison*\nl Tomate-Mozzarella-Platte* \nKäse* und Wurst\nl Käsebrett (Bergkäse*\, Weichkäse*\, Schnittkäse*)\nl Aufschnittplatte mit Wurstvariationen vom Heller Hof aus Pfaffenhofen\nl Weißwürste vom Heller Hof aus Pfaffenhofen mit süßem Senf* \nRührei* & Speck\, gekochte Eier*\nl unsere Eier* kommen vom Brandfeldhof Farion aus Ichenhausen \n  \nVeganer Special Ѵ\nLiebe Veganer\, meldet euch einfach bei unserem Servicepersonal und ihr bekommt eine Zusammenstellung veganer Leckereien Ѵ  direkt an euren Tisch. \n  \n…und dann heißt es nur noch: GENIESSEN! \nGUTEN APPETIT \n  \n28\,90 € pro Person (ab 12 J.) I 1\,50 € pro Lebensjahr Kind (bis 11 J.)\n*=Bio-zertifiziert  I  Ѵ= vegan \n_________ \nGleich euren Tisch reservieren >> zur Reservierung Frühstücksbuffet \nKommt gerne vorbei\, wir freuen uns auf euch! \n  \nFRÜHSTÜCKSBUFFET
URL:https://manufaktur-baier.de/event/fruehstuecksbuffet/2026-04-19/
LOCATION:manufaktur by BAIER\, manufaktur by BAIER\, Zeppelinstr. 6\, 89284 Pfaffenhofen\, Bayern\, 89284\, Germany
CATEGORIES:Essen
ATTACH;FMTTYPE=image/jpeg:https://manufaktur-baier.de/wp-content/uploads/2026/02/Fruehstuecksbuffet-.jpg
END:VEVENT
END:VCALENDAR