BEGIN:VCALENDAR
VERSION:2.0
PRODID:-//manufaktur by BAIER - ECPv6.15.20//NONSGML v1.0//EN
CALSCALE:GREGORIAN
METHOD:PUBLISH
X-WR-CALNAME:manufaktur by BAIER
X-ORIGINAL-URL:https://manufaktur-baier.de
X-WR-CALDESC:Veranstaltungen für manufaktur by BAIER
REFRESH-INTERVAL;VALUE=DURATION:PT1H
X-Robots-Tag:noindex
X-PUBLISHED-TTL:PT1H
BEGIN:VTIMEZONE
TZID:Europe/Berlin
BEGIN:DAYLIGHT
TZOFFSETFROM:+0100
TZOFFSETTO:+0200
TZNAME:CEST
DTSTART:20250330T010000
END:DAYLIGHT
BEGIN:STANDARD
TZOFFSETFROM:+0200
TZOFFSETTO:+0100
TZNAME:CET
DTSTART:20251026T010000
END:STANDARD
BEGIN:DAYLIGHT
TZOFFSETFROM:+0100
TZOFFSETTO:+0200
TZNAME:CEST
DTSTART:20260329T010000
END:DAYLIGHT
BEGIN:STANDARD
TZOFFSETFROM:+0200
TZOFFSETTO:+0100
TZNAME:CET
DTSTART:20261025T010000
END:STANDARD
BEGIN:DAYLIGHT
TZOFFSETFROM:+0100
TZOFFSETTO:+0200
TZNAME:CEST
DTSTART:20270328T010000
END:DAYLIGHT
BEGIN:STANDARD
TZOFFSETFROM:+0200
TZOFFSETTO:+0100
TZNAME:CET
DTSTART:20271031T010000
END:STANDARD
END:VTIMEZONE
BEGIN:VEVENT
DTSTART;TZID=Europe/Berlin:20260328T151500
DTEND;TZID=Europe/Berlin:20260328T153000
DTSTAMP:20260423T215814
CREATED:20260328T065332Z
LAST-MODIFIED:20260328T070928Z
UID:15233-1774710900-1774711800@manufaktur-baier.de
SUMMARY:IMPULSVORTRAG - ZUKUNFT MIT GOOD VIBES
DESCRIPTION:Zukunft mit Good Vibes \nWas\, wenn der aktuelle Wandel nicht gegen uns\, sondern für uns passiert? \nDieser Vortrag lädt dich ein\, deine Perspektive zu verändern\, neue Möglichkeiten zu erkennen und mit mehr Vertrauen und positiven Impulsen in deine Zukunft zu blicken. \nLass dich inspirieren – und nimm genau das mit\, was dich weiterbringt. \nCorina\nInstagram: @corina_coaching \n_________________ \nSamstag\, 28.03.2026\n15:15 – 15:30 Uhr\nJurte\, manufaktur by BAIER\, Zeppelinstr. 6\, 89284 Pfaffenhofen\nEintritt frei\, ohne Anmeldung \n_________________
URL:https://manufaktur-baier.de/event/impulsvortrag-zukunft-mit-good-vibes/
CATEGORIES:Aktion
ATTACH;FMTTYPE=image/jpeg:https://manufaktur-baier.de/wp-content/uploads/2026/03/WhatsApp-Image-2026-03-28-at-07.53.03.jpeg
END:VEVENT
END:VCALENDAR