BEGIN:VCALENDAR
VERSION:2.0
PRODID:-//manufaktur by BAIER - ECPv6.15.20//NONSGML v1.0//EN
CALSCALE:GREGORIAN
METHOD:PUBLISH
X-WR-CALNAME:manufaktur by BAIER
X-ORIGINAL-URL:https://manufaktur-baier.de
X-WR-CALDESC:Veranstaltungen für manufaktur by BAIER
REFRESH-INTERVAL;VALUE=DURATION:PT1H
X-Robots-Tag:noindex
X-PUBLISHED-TTL:PT1H
BEGIN:VTIMEZONE
TZID:Europe/Berlin
BEGIN:DAYLIGHT
TZOFFSETFROM:+0100
TZOFFSETTO:+0200
TZNAME:CEST
DTSTART:20250330T010000
END:DAYLIGHT
BEGIN:STANDARD
TZOFFSETFROM:+0200
TZOFFSETTO:+0100
TZNAME:CET
DTSTART:20251026T010000
END:STANDARD
BEGIN:DAYLIGHT
TZOFFSETFROM:+0100
TZOFFSETTO:+0200
TZNAME:CEST
DTSTART:20260329T010000
END:DAYLIGHT
BEGIN:STANDARD
TZOFFSETFROM:+0200
TZOFFSETTO:+0100
TZNAME:CET
DTSTART:20261025T010000
END:STANDARD
BEGIN:DAYLIGHT
TZOFFSETFROM:+0100
TZOFFSETTO:+0200
TZNAME:CEST
DTSTART:20270328T010000
END:DAYLIGHT
BEGIN:STANDARD
TZOFFSETFROM:+0200
TZOFFSETTO:+0100
TZNAME:CET
DTSTART:20271031T010000
END:STANDARD
END:VTIMEZONE
BEGIN:VEVENT
DTSTART;TZID=Europe/Berlin:20260328T200000
DTEND;TZID=Europe/Berlin:20260328T204500
DTSTAMP:20260423T220058
CREATED:20260223T122202Z
LAST-MODIFIED:20260223T133215Z
UID:14878-1774728000-1774730700@manufaktur-baier.de
SUMMARY:MAMOSA - HEALINGSONGS
DESCRIPTION:mamosa- das sind wir beide\, Mark und Moni. Am Ende dieses wunderbaren GESUNDHEITS- & WOHLFÜHLTAGES möchten wir dich entführen in unsere Welt der Klänge. \nHealingsongs und Mantren aus unserer eigenen Feder werden dich sachte einhüllen und in einen entspannten Abend hinein begleiten.\nMitsingen und -summen erlaubt! ❤️ \nHier könnt ihr gerne vorher reinhören: https://listen.music-hub.com/vDoV70 \n_________________ \nSamstag\, 28.03.2026\n20:00 – 20:45 Uhr\n.Jurte\, manufaktur by BAIER\, Zeppelinstr. 6\, 89284 Pfaffenhofen\nOhne Anmeldung\, auf Spendenbasis \n_________________ \nWir freuen uns auf euch\,\nMark & Moni \n\nMAMOSA – HEALINGSONGS
URL:https://manufaktur-baier.de/event/mamosa-healingsongs/
CATEGORIES:Musik
ATTACH;FMTTYPE=image/jpeg:https://manufaktur-baier.de/wp-content/uploads/2026/02/WhatsApp-Image-2026-02-20-at-18.55.41.jpeg
END:VEVENT
END:VCALENDAR