BEGIN:VCALENDAR
VERSION:2.0
PRODID:-//manufaktur by BAIER - ECPv6.15.20//NONSGML v1.0//EN
CALSCALE:GREGORIAN
METHOD:PUBLISH
X-WR-CALNAME:manufaktur by BAIER
X-ORIGINAL-URL:https://manufaktur-baier.de
X-WR-CALDESC:Veranstaltungen für manufaktur by BAIER
REFRESH-INTERVAL;VALUE=DURATION:PT1H
X-Robots-Tag:noindex
X-PUBLISHED-TTL:PT1H
BEGIN:VTIMEZONE
TZID:Europe/Berlin
BEGIN:DAYLIGHT
TZOFFSETFROM:+0100
TZOFFSETTO:+0200
TZNAME:CEST
DTSTART:20250330T010000
END:DAYLIGHT
BEGIN:STANDARD
TZOFFSETFROM:+0200
TZOFFSETTO:+0100
TZNAME:CET
DTSTART:20251026T010000
END:STANDARD
BEGIN:DAYLIGHT
TZOFFSETFROM:+0100
TZOFFSETTO:+0200
TZNAME:CEST
DTSTART:20260329T010000
END:DAYLIGHT
BEGIN:STANDARD
TZOFFSETFROM:+0200
TZOFFSETTO:+0100
TZNAME:CET
DTSTART:20261025T010000
END:STANDARD
BEGIN:DAYLIGHT
TZOFFSETFROM:+0100
TZOFFSETTO:+0200
TZNAME:CEST
DTSTART:20270328T010000
END:DAYLIGHT
BEGIN:STANDARD
TZOFFSETFROM:+0200
TZOFFSETTO:+0100
TZNAME:CET
DTSTART:20271031T010000
END:STANDARD
END:VTIMEZONE
BEGIN:VEVENT
DTSTART;TZID=Europe/Berlin:20260409T200000
DTEND;TZID=Europe/Berlin:20260409T220000
DTSTAMP:20260424T074314
CREATED:20260220T135310Z
LAST-MODIFIED:20260408T092307Z
UID:14807-1775764800-1775772000@manufaktur-baier.de
SUMMARY:OFFENE BÜHNE – OPEN MIC
DESCRIPTION:OFFENE BÜHNE – OPEN MIC \nam Donnerstag\, 9.4.2026 von 20 bis 22 Uhr ist es wieder so weit:\nBühne frei für alle\, die Lust haben\, etwas zu zeigen\, zu singen\, zu erzählen oder Musik zu machen! \n  \nWas ist eine Offene Bühne?\nHier darf jede*r spontan auftreten – ob mit Song\, Text\, Gitarre\, Poetry\, Witz oder Instrument. Es geht nicht um Perfektion\, sondern um Spaß\, Kreativität und gemeinsame Stimmung. \nEin Verstärker und ein Mikrofon stehen für euch bereit. Musikinstrumente bitte jeder selbst mitbringen. \nUnd als kleines Dankeschön fürs Mitmachen gibt’s einen Getränkegutschein. 🍹✨ \n  \nKommt vorbei – ob als Künstler*in oder Publikum – wir freuen uns auf euch und einen tollen Abend voller musikalischer Überraschungen! \nFür das leibliche Wohl ist gesorgt\, freut euch auf leckere Getränke und Snacks.\nGleich Tisch reservieren und Platz sichern unter  www.manufaktur-baier.de/reservierung_/ \n  \n📩 Fragen vorab gerne an: kontakt@manufaktur-baier.de \n  \nOFFENE BÜHNE – OPEN MIC
URL:https://manufaktur-baier.de/event/offene-buehne-open-mic/
LOCATION:manufaktur by BAIER\, manufaktur by BAIER\, Zeppelinstr. 6\, 89284 Pfaffenhofen\, Bayern\, 89284\, Germany
CATEGORIES:Essen,Musik,Trinken
ATTACH;FMTTYPE=image/jpeg:https://manufaktur-baier.de/wp-content/uploads/2026/02/2026-04-09-OFFENE-BUeHNE.jpg
END:VEVENT
END:VCALENDAR