BEGIN:VCALENDAR
VERSION:2.0
PRODID:-//manufaktur by BAIER - ECPv6.15.20//NONSGML v1.0//EN
CALSCALE:GREGORIAN
METHOD:PUBLISH
X-WR-CALNAME:manufaktur by BAIER
X-ORIGINAL-URL:https://manufaktur-baier.de
X-WR-CALDESC:Veranstaltungen für manufaktur by BAIER
REFRESH-INTERVAL;VALUE=DURATION:PT1H
X-Robots-Tag:noindex
X-PUBLISHED-TTL:PT1H
BEGIN:VTIMEZONE
TZID:Europe/Berlin
BEGIN:DAYLIGHT
TZOFFSETFROM:+0100
TZOFFSETTO:+0200
TZNAME:CEST
DTSTART:20250330T010000
END:DAYLIGHT
BEGIN:STANDARD
TZOFFSETFROM:+0200
TZOFFSETTO:+0100
TZNAME:CET
DTSTART:20251026T010000
END:STANDARD
BEGIN:DAYLIGHT
TZOFFSETFROM:+0100
TZOFFSETTO:+0200
TZNAME:CEST
DTSTART:20260329T010000
END:DAYLIGHT
BEGIN:STANDARD
TZOFFSETFROM:+0200
TZOFFSETTO:+0100
TZNAME:CET
DTSTART:20261025T010000
END:STANDARD
BEGIN:DAYLIGHT
TZOFFSETFROM:+0100
TZOFFSETTO:+0200
TZNAME:CEST
DTSTART:20270328T010000
END:DAYLIGHT
BEGIN:STANDARD
TZOFFSETFROM:+0200
TZOFFSETTO:+0100
TZNAME:CET
DTSTART:20271031T010000
END:STANDARD
END:VTIMEZONE
BEGIN:VEVENT
DTSTART;TZID=Europe/Berlin:20260927T120000
DTEND;TZID=Europe/Berlin:20260927T190000
DTSTAMP:20260424T005607
CREATED:20260317T134014Z
LAST-MODIFIED:20260317T134337Z
UID:15029-1790510400-1790535600@manufaktur-baier.de
SUMMARY:TAG DER KÜNSTLER - KÜNSTLER IN AKTION
DESCRIPTION:weitere Infos folgen \n 
URL:https://manufaktur-baier.de/event/tag-der-kuenstler/
CATEGORIES:Aktion,Essen,Kinder,Trinken,Workshop
ATTACH;FMTTYPE=image/jpeg:https://manufaktur-baier.de/wp-content/uploads/2026/03/2026-09-27-TAG-DER-KUeNSTLER.jpg
END:VEVENT
END:VCALENDAR