BEGIN:VCALENDAR
VERSION:2.0
PRODID:-//manufaktur by BAIER - ECPv6.15.20//NONSGML v1.0//EN
CALSCALE:GREGORIAN
METHOD:PUBLISH
X-WR-CALNAME:manufaktur by BAIER
X-ORIGINAL-URL:https://manufaktur-baier.de
X-WR-CALDESC:Veranstaltungen für manufaktur by BAIER
REFRESH-INTERVAL;VALUE=DURATION:PT1H
X-Robots-Tag:noindex
X-PUBLISHED-TTL:PT1H
BEGIN:VTIMEZONE
TZID:Europe/Berlin
BEGIN:DAYLIGHT
TZOFFSETFROM:+0100
TZOFFSETTO:+0200
TZNAME:CEST
DTSTART:20250330T010000
END:DAYLIGHT
BEGIN:STANDARD
TZOFFSETFROM:+0200
TZOFFSETTO:+0100
TZNAME:CET
DTSTART:20251026T010000
END:STANDARD
BEGIN:DAYLIGHT
TZOFFSETFROM:+0100
TZOFFSETTO:+0200
TZNAME:CEST
DTSTART:20260329T010000
END:DAYLIGHT
BEGIN:STANDARD
TZOFFSETFROM:+0200
TZOFFSETTO:+0100
TZNAME:CET
DTSTART:20261025T010000
END:STANDARD
BEGIN:DAYLIGHT
TZOFFSETFROM:+0100
TZOFFSETTO:+0200
TZNAME:CEST
DTSTART:20270328T010000
END:DAYLIGHT
BEGIN:STANDARD
TZOFFSETFROM:+0200
TZOFFSETTO:+0100
TZNAME:CET
DTSTART:20271031T010000
END:STANDARD
END:VTIMEZONE
BEGIN:VEVENT
DTSTART;TZID=Europe/Berlin:20260328T184500
DTEND;TZID=Europe/Berlin:20260328T193000
DTSTAMP:20260425T133031
CREATED:20260224T151407Z
LAST-MODIFIED:20260224T151506Z
UID:14920-1774723500-1774726200@manufaktur-baier.de
SUMMARY:TANZEN & PURE LEBENSFREUDE
DESCRIPTION:„Bewegung ist ein wichtiger Teil der natürlichen Frauengesundheit!“ \nTanzen verbindet Bewegung mit Freude – und genau darin liegt seine besondere Kraft. Wenn Frauen tanzen\, kommen sie wieder mehr in Kontakt mit ihrem Körper\, ihrer eigenen Energie und ihrer inneren Stärke. Tanz schafft Raum für Ausdruck\, Lebendigkeit und Selbstvertrauen. \nInsbesondere der Bauchtanz ist eine wunderbare Möglichkeit\, die weibliche Kraft zu entfalten. Mit seinen fließenden\, kraftvollen und zugleich rhythmischen Bewegungen stärkt er die Körpermitte\, fördert die Beweglichkeit und unterstützt ein positives Körpergefühl. \nKommt in Bewegung – und in eure eigene Kraft! 💃 \nEs sind keine Vorkenntnisse erforderlich – nur die Bereitschaft\, euch selbst etwas Gutes zu tun.\nProbiert es aus! \n_________________ \nSamstag\, 28.03.2026\n18:45 – 19:30 Uhr\nJurte\, manufaktur by BAIER\, Zeppelinstr. 6\, 89284 Pfaffenhofen\nAuf Spendenbasis\nGerne mit Anmeldung per Mail unter info@kraft-ort.de \n_________________ \nSabine Krüger \nHeilpraktikerein\nwww.kraft-ort.de
URL:https://manufaktur-baier.de/event/tanzen-pure-lebensfreude/
LOCATION:Jurte\, manufaktur by BAIER\, Zeppelinstr. 6\, Pfaffenhofen\, Bayern\, 89284\, Germany
CATEGORIES:Workshop
ATTACH;FMTTYPE=image/jpeg:https://manufaktur-baier.de/wp-content/uploads/2026/02/WhatsApp-Image-2026-02-24-at-15.43.56.jpeg
END:VEVENT
END:VCALENDAR