BEGIN:VCALENDAR
VERSION:2.0
PRODID:-//manufaktur by BAIER - ECPv6.15.20//NONSGML v1.0//EN
CALSCALE:GREGORIAN
METHOD:PUBLISH
X-WR-CALNAME:manufaktur by BAIER
X-ORIGINAL-URL:https://manufaktur-baier.de
X-WR-CALDESC:Veranstaltungen für manufaktur by BAIER
REFRESH-INTERVAL;VALUE=DURATION:PT1H
X-Robots-Tag:noindex
X-PUBLISHED-TTL:PT1H
BEGIN:VTIMEZONE
TZID:Europe/Berlin
BEGIN:DAYLIGHT
TZOFFSETFROM:+0100
TZOFFSETTO:+0200
TZNAME:CEST
DTSTART:20250330T010000
END:DAYLIGHT
BEGIN:STANDARD
TZOFFSETFROM:+0200
TZOFFSETTO:+0100
TZNAME:CET
DTSTART:20251026T010000
END:STANDARD
BEGIN:DAYLIGHT
TZOFFSETFROM:+0100
TZOFFSETTO:+0200
TZNAME:CEST
DTSTART:20260329T010000
END:DAYLIGHT
BEGIN:STANDARD
TZOFFSETFROM:+0200
TZOFFSETTO:+0100
TZNAME:CET
DTSTART:20261025T010000
END:STANDARD
BEGIN:DAYLIGHT
TZOFFSETFROM:+0100
TZOFFSETTO:+0200
TZNAME:CEST
DTSTART:20270328T010000
END:DAYLIGHT
BEGIN:STANDARD
TZOFFSETFROM:+0200
TZOFFSETTO:+0100
TZNAME:CET
DTSTART:20271031T010000
END:STANDARD
END:VTIMEZONE
BEGIN:VEVENT
DTSTART;TZID=Europe/Berlin:20260329T140000
DTEND;TZID=Europe/Berlin:20260329T170000
DTSTAMP:20260424T005728
CREATED:20260227T150433Z
LAST-MODIFIED:20260227T150433Z
UID:14933-1774792800-1774803600@manufaktur-baier.de
SUMMARY:WORKSHOP TRAUMFÄNGER
DESCRIPTION:Workshop Traumfänger \nGemeinsam kreieren wir deinen eigenen Traumfänger. \nGrundmaterial vorhanden\, gerne kannst du eigene Materialien (z.B. Früchte\, Schoten \, Federn\, Muscheln..) mitbringen und mit einbauen. \n________________ \nTermin: 29.03.2026\, 14 – 17 Uhr\nOrt: manufaktur by BAIER\, Kreativwerkstatt\nPreis: 100 € I zzgl. Materialkosten\, falls du noch Dekomaterial etc von uns benötigst\nAnmeldung und nähere Infos: bei Damaris unter 0160/8230507 \n________________ \nIch freue mich auf euch\,\nDamaris tzigane \n 
URL:https://manufaktur-baier.de/event/workshop-traumfaenger/
CATEGORIES:Workshop
ATTACH;FMTTYPE=image/jpeg:https://manufaktur-baier.de/wp-content/uploads/2026/02/2026-03-29-Workshop-Traumfaenger.jpg
END:VEVENT
END:VCALENDAR