BEGIN:VCALENDAR
VERSION:2.0
PRODID:-//manufaktur by BAIER - ECPv6.15.20//NONSGML v1.0//EN
CALSCALE:GREGORIAN
METHOD:PUBLISH
X-WR-CALNAME:manufaktur by BAIER
X-ORIGINAL-URL:https://manufaktur-baier.de
X-WR-CALDESC:Veranstaltungen für manufaktur by BAIER
REFRESH-INTERVAL;VALUE=DURATION:PT1H
X-Robots-Tag:noindex
X-PUBLISHED-TTL:PT1H
BEGIN:VTIMEZONE
TZID:Europe/Berlin
BEGIN:DAYLIGHT
TZOFFSETFROM:+0100
TZOFFSETTO:+0200
TZNAME:CEST
DTSTART:20250330T010000
END:DAYLIGHT
BEGIN:STANDARD
TZOFFSETFROM:+0200
TZOFFSETTO:+0100
TZNAME:CET
DTSTART:20251026T010000
END:STANDARD
BEGIN:DAYLIGHT
TZOFFSETFROM:+0100
TZOFFSETTO:+0200
TZNAME:CEST
DTSTART:20260329T010000
END:DAYLIGHT
BEGIN:STANDARD
TZOFFSETFROM:+0200
TZOFFSETTO:+0100
TZNAME:CET
DTSTART:20261025T010000
END:STANDARD
BEGIN:DAYLIGHT
TZOFFSETFROM:+0100
TZOFFSETTO:+0200
TZNAME:CEST
DTSTART:20270328T010000
END:DAYLIGHT
BEGIN:STANDARD
TZOFFSETFROM:+0200
TZOFFSETTO:+0100
TZNAME:CET
DTSTART:20271031T010000
END:STANDARD
END:VTIMEZONE
BEGIN:VEVENT
DTSTART;TZID=Europe/Berlin:20260430T090000
DTEND;TZID=Europe/Berlin:20260430T220000
DTSTAMP:20260425T133034
CREATED:20260220T141839Z
LAST-MODIFIED:20260313T150137Z
UID:10000259-1777539600-1777586400@manufaktur-baier.de
SUMMARY:FÜR EUCH GEÖFFNET - DONNERSTAG
DESCRIPTION:Liebe Gäste und Kunden\, \nwir haben heute von 9-22 Uhr für euch geöffnet. \n\n9-12 Uhr Frühstück a la carte\nab 12 Uhr Kaffee\, Kuchen\, Snacks\n\nGerne könnt ihr einen Tisch reservieren >> ZUR TISCHRESERVIERUNG \nKommt gerne vorbei\, wir freuen uns auf euch! \n \n 
URL:https://manufaktur-baier.de/event/fuer-euch-geoeffnet-donnerstag/2026-04-30/
LOCATION:manufaktur by BAIER\, manufaktur by BAIER\, Zeppelinstr. 6\, 89284 Pfaffenhofen\, Bayern\, 89284\, Germany
CATEGORIES:Essen,Trinken
END:VEVENT
BEGIN:VEVENT
DTSTART;TZID=Europe/Berlin:20260507T090000
DTEND;TZID=Europe/Berlin:20260507T220000
DTSTAMP:20260425T133034
CREATED:20260220T141839Z
LAST-MODIFIED:20260313T150137Z
UID:10000260-1778144400-1778191200@manufaktur-baier.de
SUMMARY:FÜR EUCH GEÖFFNET - DONNERSTAG
DESCRIPTION:Liebe Gäste und Kunden\, \nwir haben heute von 9-22 Uhr für euch geöffnet. \n\n9-12 Uhr Frühstück a la carte\nab 12 Uhr Kaffee\, Kuchen\, Snacks\n\nGerne könnt ihr einen Tisch reservieren >> ZUR TISCHRESERVIERUNG \nKommt gerne vorbei\, wir freuen uns auf euch! \n \n 
URL:https://manufaktur-baier.de/event/fuer-euch-geoeffnet-donnerstag/2026-05-07/
LOCATION:manufaktur by BAIER\, manufaktur by BAIER\, Zeppelinstr. 6\, 89284 Pfaffenhofen\, Bayern\, 89284\, Germany
CATEGORIES:Essen,Trinken
END:VEVENT
BEGIN:VEVENT
DTSTART;TZID=Europe/Berlin:20260521T090000
DTEND;TZID=Europe/Berlin:20260521T220000
DTSTAMP:20260425T133034
CREATED:20260220T141839Z
LAST-MODIFIED:20260313T150137Z
UID:10000262-1779354000-1779400800@manufaktur-baier.de
SUMMARY:FÜR EUCH GEÖFFNET - DONNERSTAG
DESCRIPTION:Liebe Gäste und Kunden\, \nwir haben heute von 9-22 Uhr für euch geöffnet. \n\n9-12 Uhr Frühstück a la carte\nab 12 Uhr Kaffee\, Kuchen\, Snacks\n\nGerne könnt ihr einen Tisch reservieren >> ZUR TISCHRESERVIERUNG \nKommt gerne vorbei\, wir freuen uns auf euch! \n \n 
URL:https://manufaktur-baier.de/event/fuer-euch-geoeffnet-donnerstag/2026-05-21/
LOCATION:manufaktur by BAIER\, manufaktur by BAIER\, Zeppelinstr. 6\, 89284 Pfaffenhofen\, Bayern\, 89284\, Germany
CATEGORIES:Essen,Trinken
END:VEVENT
BEGIN:VEVENT
DTSTART;TZID=Europe/Berlin:20260528T090000
DTEND;TZID=Europe/Berlin:20260528T220000
DTSTAMP:20260425T133034
CREATED:20260220T141839Z
LAST-MODIFIED:20260313T150137Z
UID:10000263-1779958800-1780005600@manufaktur-baier.de
SUMMARY:FÜR EUCH GEÖFFNET - DONNERSTAG
DESCRIPTION:Liebe Gäste und Kunden\, \nwir haben heute von 9-22 Uhr für euch geöffnet. \n\n9-12 Uhr Frühstück a la carte\nab 12 Uhr Kaffee\, Kuchen\, Snacks\n\nGerne könnt ihr einen Tisch reservieren >> ZUR TISCHRESERVIERUNG \nKommt gerne vorbei\, wir freuen uns auf euch! \n \n 
URL:https://manufaktur-baier.de/event/fuer-euch-geoeffnet-donnerstag/2026-05-28/
LOCATION:manufaktur by BAIER\, manufaktur by BAIER\, Zeppelinstr. 6\, 89284 Pfaffenhofen\, Bayern\, 89284\, Germany
CATEGORIES:Essen,Trinken
END:VEVENT
BEGIN:VEVENT
DTSTART;TZID=Europe/Berlin:20260611T090000
DTEND;TZID=Europe/Berlin:20260611T220000
DTSTAMP:20260425T133034
CREATED:20260220T141839Z
LAST-MODIFIED:20260313T150137Z
UID:10000265-1781168400-1781215200@manufaktur-baier.de
SUMMARY:FÜR EUCH GEÖFFNET - DONNERSTAG
DESCRIPTION:Liebe Gäste und Kunden\, \nwir haben heute von 9-22 Uhr für euch geöffnet. \n\n9-12 Uhr Frühstück a la carte\nab 12 Uhr Kaffee\, Kuchen\, Snacks\n\nGerne könnt ihr einen Tisch reservieren >> ZUR TISCHRESERVIERUNG \nKommt gerne vorbei\, wir freuen uns auf euch! \n \n 
URL:https://manufaktur-baier.de/event/fuer-euch-geoeffnet-donnerstag/2026-06-11/
LOCATION:manufaktur by BAIER\, manufaktur by BAIER\, Zeppelinstr. 6\, 89284 Pfaffenhofen\, Bayern\, 89284\, Germany
CATEGORIES:Essen,Trinken
END:VEVENT
BEGIN:VEVENT
DTSTART;TZID=Europe/Berlin:20260618T090000
DTEND;TZID=Europe/Berlin:20260618T220000
DTSTAMP:20260425T133034
CREATED:20260220T141839Z
LAST-MODIFIED:20260313T150137Z
UID:10000266-1781773200-1781820000@manufaktur-baier.de
SUMMARY:FÜR EUCH GEÖFFNET - DONNERSTAG
DESCRIPTION:Liebe Gäste und Kunden\, \nwir haben heute von 9-22 Uhr für euch geöffnet. \n\n9-12 Uhr Frühstück a la carte\nab 12 Uhr Kaffee\, Kuchen\, Snacks\n\nGerne könnt ihr einen Tisch reservieren >> ZUR TISCHRESERVIERUNG \nKommt gerne vorbei\, wir freuen uns auf euch! \n \n 
URL:https://manufaktur-baier.de/event/fuer-euch-geoeffnet-donnerstag/2026-06-18/
LOCATION:manufaktur by BAIER\, manufaktur by BAIER\, Zeppelinstr. 6\, 89284 Pfaffenhofen\, Bayern\, 89284\, Germany
CATEGORIES:Essen,Trinken
END:VEVENT
BEGIN:VEVENT
DTSTART;TZID=Europe/Berlin:20260625T090000
DTEND;TZID=Europe/Berlin:20260625T220000
DTSTAMP:20260425T133034
CREATED:20260220T141839Z
LAST-MODIFIED:20260313T150137Z
UID:10000267-1782378000-1782424800@manufaktur-baier.de
SUMMARY:FÜR EUCH GEÖFFNET - DONNERSTAG
DESCRIPTION:Liebe Gäste und Kunden\, \nwir haben heute von 9-22 Uhr für euch geöffnet. \n\n9-12 Uhr Frühstück a la carte\nab 12 Uhr Kaffee\, Kuchen\, Snacks\n\nGerne könnt ihr einen Tisch reservieren >> ZUR TISCHRESERVIERUNG \nKommt gerne vorbei\, wir freuen uns auf euch! \n \n 
URL:https://manufaktur-baier.de/event/fuer-euch-geoeffnet-donnerstag/2026-06-25/
LOCATION:manufaktur by BAIER\, manufaktur by BAIER\, Zeppelinstr. 6\, 89284 Pfaffenhofen\, Bayern\, 89284\, Germany
CATEGORIES:Essen,Trinken
END:VEVENT
BEGIN:VEVENT
DTSTART;TZID=Europe/Berlin:20260702T090000
DTEND;TZID=Europe/Berlin:20260702T220000
DTSTAMP:20260425T133034
CREATED:20260220T141839Z
LAST-MODIFIED:20260313T150137Z
UID:10000268-1782982800-1783029600@manufaktur-baier.de
SUMMARY:FÜR EUCH GEÖFFNET - DONNERSTAG
DESCRIPTION:Liebe Gäste und Kunden\, \nwir haben heute von 9-22 Uhr für euch geöffnet. \n\n9-12 Uhr Frühstück a la carte\nab 12 Uhr Kaffee\, Kuchen\, Snacks\n\nGerne könnt ihr einen Tisch reservieren >> ZUR TISCHRESERVIERUNG \nKommt gerne vorbei\, wir freuen uns auf euch! \n \n 
URL:https://manufaktur-baier.de/event/fuer-euch-geoeffnet-donnerstag/2026-07-02/
LOCATION:manufaktur by BAIER\, manufaktur by BAIER\, Zeppelinstr. 6\, 89284 Pfaffenhofen\, Bayern\, 89284\, Germany
CATEGORIES:Essen,Trinken
END:VEVENT
BEGIN:VEVENT
DTSTART;TZID=Europe/Berlin:20260709T090000
DTEND;TZID=Europe/Berlin:20260709T220000
DTSTAMP:20260425T133034
CREATED:20260220T141839Z
LAST-MODIFIED:20260313T150137Z
UID:10000269-1783587600-1783634400@manufaktur-baier.de
SUMMARY:FÜR EUCH GEÖFFNET - DONNERSTAG
DESCRIPTION:Liebe Gäste und Kunden\, \nwir haben heute von 9-22 Uhr für euch geöffnet. \n\n9-12 Uhr Frühstück a la carte\nab 12 Uhr Kaffee\, Kuchen\, Snacks\n\nGerne könnt ihr einen Tisch reservieren >> ZUR TISCHRESERVIERUNG \nKommt gerne vorbei\, wir freuen uns auf euch! \n \n 
URL:https://manufaktur-baier.de/event/fuer-euch-geoeffnet-donnerstag/2026-07-09/
LOCATION:manufaktur by BAIER\, manufaktur by BAIER\, Zeppelinstr. 6\, 89284 Pfaffenhofen\, Bayern\, 89284\, Germany
CATEGORIES:Essen,Trinken
END:VEVENT
BEGIN:VEVENT
DTSTART;TZID=Europe/Berlin:20260716T090000
DTEND;TZID=Europe/Berlin:20260716T220000
DTSTAMP:20260425T133034
CREATED:20260220T141839Z
LAST-MODIFIED:20260313T150137Z
UID:10000270-1784192400-1784239200@manufaktur-baier.de
SUMMARY:FÜR EUCH GEÖFFNET - DONNERSTAG
DESCRIPTION:Liebe Gäste und Kunden\, \nwir haben heute von 9-22 Uhr für euch geöffnet. \n\n9-12 Uhr Frühstück a la carte\nab 12 Uhr Kaffee\, Kuchen\, Snacks\n\nGerne könnt ihr einen Tisch reservieren >> ZUR TISCHRESERVIERUNG \nKommt gerne vorbei\, wir freuen uns auf euch! \n \n 
URL:https://manufaktur-baier.de/event/fuer-euch-geoeffnet-donnerstag/2026-07-16/
LOCATION:manufaktur by BAIER\, manufaktur by BAIER\, Zeppelinstr. 6\, 89284 Pfaffenhofen\, Bayern\, 89284\, Germany
CATEGORIES:Essen,Trinken
END:VEVENT
BEGIN:VEVENT
DTSTART;TZID=Europe/Berlin:20260723T090000
DTEND;TZID=Europe/Berlin:20260723T220000
DTSTAMP:20260425T133034
CREATED:20260220T141839Z
LAST-MODIFIED:20260313T150137Z
UID:10000271-1784797200-1784844000@manufaktur-baier.de
SUMMARY:FÜR EUCH GEÖFFNET - DONNERSTAG
DESCRIPTION:Liebe Gäste und Kunden\, \nwir haben heute von 9-22 Uhr für euch geöffnet. \n\n9-12 Uhr Frühstück a la carte\nab 12 Uhr Kaffee\, Kuchen\, Snacks\n\nGerne könnt ihr einen Tisch reservieren >> ZUR TISCHRESERVIERUNG \nKommt gerne vorbei\, wir freuen uns auf euch! \n \n 
URL:https://manufaktur-baier.de/event/fuer-euch-geoeffnet-donnerstag/2026-07-23/
LOCATION:manufaktur by BAIER\, manufaktur by BAIER\, Zeppelinstr. 6\, 89284 Pfaffenhofen\, Bayern\, 89284\, Germany
CATEGORIES:Essen,Trinken
END:VEVENT
BEGIN:VEVENT
DTSTART;TZID=Europe/Berlin:20260730T090000
DTEND;TZID=Europe/Berlin:20260730T220000
DTSTAMP:20260425T133034
CREATED:20260220T141839Z
LAST-MODIFIED:20260313T150137Z
UID:10000272-1785402000-1785448800@manufaktur-baier.de
SUMMARY:FÜR EUCH GEÖFFNET - DONNERSTAG
DESCRIPTION:Liebe Gäste und Kunden\, \nwir haben heute von 9-22 Uhr für euch geöffnet. \n\n9-12 Uhr Frühstück a la carte\nab 12 Uhr Kaffee\, Kuchen\, Snacks\n\nGerne könnt ihr einen Tisch reservieren >> ZUR TISCHRESERVIERUNG \nKommt gerne vorbei\, wir freuen uns auf euch! \n \n 
URL:https://manufaktur-baier.de/event/fuer-euch-geoeffnet-donnerstag/2026-07-30/
LOCATION:manufaktur by BAIER\, manufaktur by BAIER\, Zeppelinstr. 6\, 89284 Pfaffenhofen\, Bayern\, 89284\, Germany
CATEGORIES:Essen,Trinken
END:VEVENT
BEGIN:VEVENT
DTSTART;TZID=Europe/Berlin:20260806T090000
DTEND;TZID=Europe/Berlin:20260806T220000
DTSTAMP:20260425T133034
CREATED:20260220T141839Z
LAST-MODIFIED:20260313T150137Z
UID:10000273-1786006800-1786053600@manufaktur-baier.de
SUMMARY:FÜR EUCH GEÖFFNET - DONNERSTAG
DESCRIPTION:Liebe Gäste und Kunden\, \nwir haben heute von 9-22 Uhr für euch geöffnet. \n\n9-12 Uhr Frühstück a la carte\nab 12 Uhr Kaffee\, Kuchen\, Snacks\n\nGerne könnt ihr einen Tisch reservieren >> ZUR TISCHRESERVIERUNG \nKommt gerne vorbei\, wir freuen uns auf euch! \n \n 
URL:https://manufaktur-baier.de/event/fuer-euch-geoeffnet-donnerstag/2026-08-06/
LOCATION:manufaktur by BAIER\, manufaktur by BAIER\, Zeppelinstr. 6\, 89284 Pfaffenhofen\, Bayern\, 89284\, Germany
CATEGORIES:Essen,Trinken
END:VEVENT
BEGIN:VEVENT
DTSTART;TZID=Europe/Berlin:20260813T090000
DTEND;TZID=Europe/Berlin:20260813T220000
DTSTAMP:20260425T133034
CREATED:20260220T141839Z
LAST-MODIFIED:20260313T150137Z
UID:10000274-1786611600-1786658400@manufaktur-baier.de
SUMMARY:FÜR EUCH GEÖFFNET - DONNERSTAG
DESCRIPTION:Liebe Gäste und Kunden\, \nwir haben heute von 9-22 Uhr für euch geöffnet. \n\n9-12 Uhr Frühstück a la carte\nab 12 Uhr Kaffee\, Kuchen\, Snacks\n\nGerne könnt ihr einen Tisch reservieren >> ZUR TISCHRESERVIERUNG \nKommt gerne vorbei\, wir freuen uns auf euch! \n \n 
URL:https://manufaktur-baier.de/event/fuer-euch-geoeffnet-donnerstag/2026-08-13/
LOCATION:manufaktur by BAIER\, manufaktur by BAIER\, Zeppelinstr. 6\, 89284 Pfaffenhofen\, Bayern\, 89284\, Germany
CATEGORIES:Essen,Trinken
END:VEVENT
BEGIN:VEVENT
DTSTART;TZID=Europe/Berlin:20260820T090000
DTEND;TZID=Europe/Berlin:20260820T220000
DTSTAMP:20260425T133034
CREATED:20260220T141839Z
LAST-MODIFIED:20260313T150137Z
UID:10000275-1787216400-1787263200@manufaktur-baier.de
SUMMARY:FÜR EUCH GEÖFFNET - DONNERSTAG
DESCRIPTION:Liebe Gäste und Kunden\, \nwir haben heute von 9-22 Uhr für euch geöffnet. \n\n9-12 Uhr Frühstück a la carte\nab 12 Uhr Kaffee\, Kuchen\, Snacks\n\nGerne könnt ihr einen Tisch reservieren >> ZUR TISCHRESERVIERUNG \nKommt gerne vorbei\, wir freuen uns auf euch! \n \n 
URL:https://manufaktur-baier.de/event/fuer-euch-geoeffnet-donnerstag/2026-08-20/
LOCATION:manufaktur by BAIER\, manufaktur by BAIER\, Zeppelinstr. 6\, 89284 Pfaffenhofen\, Bayern\, 89284\, Germany
CATEGORIES:Essen,Trinken
END:VEVENT
BEGIN:VEVENT
DTSTART;TZID=Europe/Berlin:20260827T090000
DTEND;TZID=Europe/Berlin:20260827T220000
DTSTAMP:20260425T133034
CREATED:20260220T141839Z
LAST-MODIFIED:20260313T150137Z
UID:10000276-1787821200-1787868000@manufaktur-baier.de
SUMMARY:FÜR EUCH GEÖFFNET - DONNERSTAG
DESCRIPTION:Liebe Gäste und Kunden\, \nwir haben heute von 9-22 Uhr für euch geöffnet. \n\n9-12 Uhr Frühstück a la carte\nab 12 Uhr Kaffee\, Kuchen\, Snacks\n\nGerne könnt ihr einen Tisch reservieren >> ZUR TISCHRESERVIERUNG \nKommt gerne vorbei\, wir freuen uns auf euch! \n \n 
URL:https://manufaktur-baier.de/event/fuer-euch-geoeffnet-donnerstag/2026-08-27/
LOCATION:manufaktur by BAIER\, manufaktur by BAIER\, Zeppelinstr. 6\, 89284 Pfaffenhofen\, Bayern\, 89284\, Germany
CATEGORIES:Essen,Trinken
END:VEVENT
BEGIN:VEVENT
DTSTART;TZID=Europe/Berlin:20260903T090000
DTEND;TZID=Europe/Berlin:20260903T220000
DTSTAMP:20260425T133034
CREATED:20260220T141839Z
LAST-MODIFIED:20260313T150137Z
UID:10000277-1788426000-1788472800@manufaktur-baier.de
SUMMARY:FÜR EUCH GEÖFFNET - DONNERSTAG
DESCRIPTION:Liebe Gäste und Kunden\, \nwir haben heute von 9-22 Uhr für euch geöffnet. \n\n9-12 Uhr Frühstück a la carte\nab 12 Uhr Kaffee\, Kuchen\, Snacks\n\nGerne könnt ihr einen Tisch reservieren >> ZUR TISCHRESERVIERUNG \nKommt gerne vorbei\, wir freuen uns auf euch! \n \n 
URL:https://manufaktur-baier.de/event/fuer-euch-geoeffnet-donnerstag/2026-09-03/
LOCATION:manufaktur by BAIER\, manufaktur by BAIER\, Zeppelinstr. 6\, 89284 Pfaffenhofen\, Bayern\, 89284\, Germany
CATEGORIES:Essen,Trinken
END:VEVENT
BEGIN:VEVENT
DTSTART;TZID=Europe/Berlin:20260910T090000
DTEND;TZID=Europe/Berlin:20260910T220000
DTSTAMP:20260425T133034
CREATED:20260220T141839Z
LAST-MODIFIED:20260313T150137Z
UID:10000278-1789030800-1789077600@manufaktur-baier.de
SUMMARY:FÜR EUCH GEÖFFNET - DONNERSTAG
DESCRIPTION:Liebe Gäste und Kunden\, \nwir haben heute von 9-22 Uhr für euch geöffnet. \n\n9-12 Uhr Frühstück a la carte\nab 12 Uhr Kaffee\, Kuchen\, Snacks\n\nGerne könnt ihr einen Tisch reservieren >> ZUR TISCHRESERVIERUNG \nKommt gerne vorbei\, wir freuen uns auf euch! \n \n 
URL:https://manufaktur-baier.de/event/fuer-euch-geoeffnet-donnerstag/2026-09-10/
LOCATION:manufaktur by BAIER\, manufaktur by BAIER\, Zeppelinstr. 6\, 89284 Pfaffenhofen\, Bayern\, 89284\, Germany
CATEGORIES:Essen,Trinken
END:VEVENT
BEGIN:VEVENT
DTSTART;TZID=Europe/Berlin:20260917T090000
DTEND;TZID=Europe/Berlin:20260917T220000
DTSTAMP:20260425T133034
CREATED:20260220T141839Z
LAST-MODIFIED:20260313T150137Z
UID:10000279-1789635600-1789682400@manufaktur-baier.de
SUMMARY:FÜR EUCH GEÖFFNET - DONNERSTAG
DESCRIPTION:Liebe Gäste und Kunden\, \nwir haben heute von 9-22 Uhr für euch geöffnet. \n\n9-12 Uhr Frühstück a la carte\nab 12 Uhr Kaffee\, Kuchen\, Snacks\n\nGerne könnt ihr einen Tisch reservieren >> ZUR TISCHRESERVIERUNG \nKommt gerne vorbei\, wir freuen uns auf euch! \n \n 
URL:https://manufaktur-baier.de/event/fuer-euch-geoeffnet-donnerstag/2026-09-17/
LOCATION:manufaktur by BAIER\, manufaktur by BAIER\, Zeppelinstr. 6\, 89284 Pfaffenhofen\, Bayern\, 89284\, Germany
CATEGORIES:Essen,Trinken
END:VEVENT
BEGIN:VEVENT
DTSTART;TZID=Europe/Berlin:20260924T090000
DTEND;TZID=Europe/Berlin:20260924T220000
DTSTAMP:20260425T133034
CREATED:20260220T141839Z
LAST-MODIFIED:20260313T150137Z
UID:10000280-1790240400-1790287200@manufaktur-baier.de
SUMMARY:FÜR EUCH GEÖFFNET - DONNERSTAG
DESCRIPTION:Liebe Gäste und Kunden\, \nwir haben heute von 9-22 Uhr für euch geöffnet. \n\n9-12 Uhr Frühstück a la carte\nab 12 Uhr Kaffee\, Kuchen\, Snacks\n\nGerne könnt ihr einen Tisch reservieren >> ZUR TISCHRESERVIERUNG \nKommt gerne vorbei\, wir freuen uns auf euch! \n \n 
URL:https://manufaktur-baier.de/event/fuer-euch-geoeffnet-donnerstag/2026-09-24/
LOCATION:manufaktur by BAIER\, manufaktur by BAIER\, Zeppelinstr. 6\, 89284 Pfaffenhofen\, Bayern\, 89284\, Germany
CATEGORIES:Essen,Trinken
END:VEVENT
BEGIN:VEVENT
DTSTART;TZID=Europe/Berlin:20261001T090000
DTEND;TZID=Europe/Berlin:20261001T220000
DTSTAMP:20260425T133034
CREATED:20260220T141839Z
LAST-MODIFIED:20260313T150137Z
UID:10000281-1790845200-1790892000@manufaktur-baier.de
SUMMARY:FÜR EUCH GEÖFFNET - DONNERSTAG
DESCRIPTION:Liebe Gäste und Kunden\, \nwir haben heute von 9-22 Uhr für euch geöffnet. \n\n9-12 Uhr Frühstück a la carte\nab 12 Uhr Kaffee\, Kuchen\, Snacks\n\nGerne könnt ihr einen Tisch reservieren >> ZUR TISCHRESERVIERUNG \nKommt gerne vorbei\, wir freuen uns auf euch! \n \n 
URL:https://manufaktur-baier.de/event/fuer-euch-geoeffnet-donnerstag/2026-10-01/
LOCATION:manufaktur by BAIER\, manufaktur by BAIER\, Zeppelinstr. 6\, 89284 Pfaffenhofen\, Bayern\, 89284\, Germany
CATEGORIES:Essen,Trinken
END:VEVENT
BEGIN:VEVENT
DTSTART;TZID=Europe/Berlin:20261008T090000
DTEND;TZID=Europe/Berlin:20261008T220000
DTSTAMP:20260425T133034
CREATED:20260220T141839Z
LAST-MODIFIED:20260313T150137Z
UID:10000282-1791450000-1791496800@manufaktur-baier.de
SUMMARY:FÜR EUCH GEÖFFNET - DONNERSTAG
DESCRIPTION:Liebe Gäste und Kunden\, \nwir haben heute von 9-22 Uhr für euch geöffnet. \n\n9-12 Uhr Frühstück a la carte\nab 12 Uhr Kaffee\, Kuchen\, Snacks\n\nGerne könnt ihr einen Tisch reservieren >> ZUR TISCHRESERVIERUNG \nKommt gerne vorbei\, wir freuen uns auf euch! \n \n 
URL:https://manufaktur-baier.de/event/fuer-euch-geoeffnet-donnerstag/2026-10-08/
LOCATION:manufaktur by BAIER\, manufaktur by BAIER\, Zeppelinstr. 6\, 89284 Pfaffenhofen\, Bayern\, 89284\, Germany
CATEGORIES:Essen,Trinken
END:VEVENT
BEGIN:VEVENT
DTSTART;TZID=Europe/Berlin:20261015T090000
DTEND;TZID=Europe/Berlin:20261015T220000
DTSTAMP:20260425T133034
CREATED:20260220T141839Z
LAST-MODIFIED:20260313T150137Z
UID:10000283-1792054800-1792101600@manufaktur-baier.de
SUMMARY:FÜR EUCH GEÖFFNET - DONNERSTAG
DESCRIPTION:Liebe Gäste und Kunden\, \nwir haben heute von 9-22 Uhr für euch geöffnet. \n\n9-12 Uhr Frühstück a la carte\nab 12 Uhr Kaffee\, Kuchen\, Snacks\n\nGerne könnt ihr einen Tisch reservieren >> ZUR TISCHRESERVIERUNG \nKommt gerne vorbei\, wir freuen uns auf euch! \n \n 
URL:https://manufaktur-baier.de/event/fuer-euch-geoeffnet-donnerstag/2026-10-15/
LOCATION:manufaktur by BAIER\, manufaktur by BAIER\, Zeppelinstr. 6\, 89284 Pfaffenhofen\, Bayern\, 89284\, Germany
CATEGORIES:Essen,Trinken
END:VEVENT
BEGIN:VEVENT
DTSTART;TZID=Europe/Berlin:20261022T090000
DTEND;TZID=Europe/Berlin:20261022T220000
DTSTAMP:20260425T133034
CREATED:20260220T141839Z
LAST-MODIFIED:20260313T150137Z
UID:10000284-1792659600-1792706400@manufaktur-baier.de
SUMMARY:FÜR EUCH GEÖFFNET - DONNERSTAG
DESCRIPTION:Liebe Gäste und Kunden\, \nwir haben heute von 9-22 Uhr für euch geöffnet. \n\n9-12 Uhr Frühstück a la carte\nab 12 Uhr Kaffee\, Kuchen\, Snacks\n\nGerne könnt ihr einen Tisch reservieren >> ZUR TISCHRESERVIERUNG \nKommt gerne vorbei\, wir freuen uns auf euch! \n \n 
URL:https://manufaktur-baier.de/event/fuer-euch-geoeffnet-donnerstag/2026-10-22/
LOCATION:manufaktur by BAIER\, manufaktur by BAIER\, Zeppelinstr. 6\, 89284 Pfaffenhofen\, Bayern\, 89284\, Germany
CATEGORIES:Essen,Trinken
END:VEVENT
BEGIN:VEVENT
DTSTART;TZID=Europe/Berlin:20261029T090000
DTEND;TZID=Europe/Berlin:20261029T220000
DTSTAMP:20260425T133034
CREATED:20260220T141839Z
LAST-MODIFIED:20260313T150137Z
UID:10000285-1793264400-1793311200@manufaktur-baier.de
SUMMARY:FÜR EUCH GEÖFFNET - DONNERSTAG
DESCRIPTION:Liebe Gäste und Kunden\, \nwir haben heute von 9-22 Uhr für euch geöffnet. \n\n9-12 Uhr Frühstück a la carte\nab 12 Uhr Kaffee\, Kuchen\, Snacks\n\nGerne könnt ihr einen Tisch reservieren >> ZUR TISCHRESERVIERUNG \nKommt gerne vorbei\, wir freuen uns auf euch! \n \n 
URL:https://manufaktur-baier.de/event/fuer-euch-geoeffnet-donnerstag/2026-10-29/
LOCATION:manufaktur by BAIER\, manufaktur by BAIER\, Zeppelinstr. 6\, 89284 Pfaffenhofen\, Bayern\, 89284\, Germany
CATEGORIES:Essen,Trinken
END:VEVENT
BEGIN:VEVENT
DTSTART;TZID=Europe/Berlin:20261105T090000
DTEND;TZID=Europe/Berlin:20261105T220000
DTSTAMP:20260425T133034
CREATED:20260220T141839Z
LAST-MODIFIED:20260313T150137Z
UID:10000286-1793869200-1793916000@manufaktur-baier.de
SUMMARY:FÜR EUCH GEÖFFNET - DONNERSTAG
DESCRIPTION:Liebe Gäste und Kunden\, \nwir haben heute von 9-22 Uhr für euch geöffnet. \n\n9-12 Uhr Frühstück a la carte\nab 12 Uhr Kaffee\, Kuchen\, Snacks\n\nGerne könnt ihr einen Tisch reservieren >> ZUR TISCHRESERVIERUNG \nKommt gerne vorbei\, wir freuen uns auf euch! \n \n 
URL:https://manufaktur-baier.de/event/fuer-euch-geoeffnet-donnerstag/2026-11-05/
LOCATION:manufaktur by BAIER\, manufaktur by BAIER\, Zeppelinstr. 6\, 89284 Pfaffenhofen\, Bayern\, 89284\, Germany
CATEGORIES:Essen,Trinken
END:VEVENT
BEGIN:VEVENT
DTSTART;TZID=Europe/Berlin:20261112T090000
DTEND;TZID=Europe/Berlin:20261112T220000
DTSTAMP:20260425T133034
CREATED:20260220T141839Z
LAST-MODIFIED:20260313T150137Z
UID:10000287-1794474000-1794520800@manufaktur-baier.de
SUMMARY:FÜR EUCH GEÖFFNET - DONNERSTAG
DESCRIPTION:Liebe Gäste und Kunden\, \nwir haben heute von 9-22 Uhr für euch geöffnet. \n\n9-12 Uhr Frühstück a la carte\nab 12 Uhr Kaffee\, Kuchen\, Snacks\n\nGerne könnt ihr einen Tisch reservieren >> ZUR TISCHRESERVIERUNG \nKommt gerne vorbei\, wir freuen uns auf euch! \n \n 
URL:https://manufaktur-baier.de/event/fuer-euch-geoeffnet-donnerstag/2026-11-12/
LOCATION:manufaktur by BAIER\, manufaktur by BAIER\, Zeppelinstr. 6\, 89284 Pfaffenhofen\, Bayern\, 89284\, Germany
CATEGORIES:Essen,Trinken
END:VEVENT
BEGIN:VEVENT
DTSTART;TZID=Europe/Berlin:20261119T090000
DTEND;TZID=Europe/Berlin:20261119T220000
DTSTAMP:20260425T133034
CREATED:20260220T141839Z
LAST-MODIFIED:20260313T150137Z
UID:10000288-1795078800-1795125600@manufaktur-baier.de
SUMMARY:FÜR EUCH GEÖFFNET - DONNERSTAG
DESCRIPTION:Liebe Gäste und Kunden\, \nwir haben heute von 9-22 Uhr für euch geöffnet. \n\n9-12 Uhr Frühstück a la carte\nab 12 Uhr Kaffee\, Kuchen\, Snacks\n\nGerne könnt ihr einen Tisch reservieren >> ZUR TISCHRESERVIERUNG \nKommt gerne vorbei\, wir freuen uns auf euch! \n \n 
URL:https://manufaktur-baier.de/event/fuer-euch-geoeffnet-donnerstag/2026-11-19/
LOCATION:manufaktur by BAIER\, manufaktur by BAIER\, Zeppelinstr. 6\, 89284 Pfaffenhofen\, Bayern\, 89284\, Germany
CATEGORIES:Essen,Trinken
END:VEVENT
BEGIN:VEVENT
DTSTART;TZID=Europe/Berlin:20261126T090000
DTEND;TZID=Europe/Berlin:20261126T220000
DTSTAMP:20260425T133034
CREATED:20260220T141839Z
LAST-MODIFIED:20260313T150137Z
UID:10000289-1795683600-1795730400@manufaktur-baier.de
SUMMARY:FÜR EUCH GEÖFFNET - DONNERSTAG
DESCRIPTION:Liebe Gäste und Kunden\, \nwir haben heute von 9-22 Uhr für euch geöffnet. \n\n9-12 Uhr Frühstück a la carte\nab 12 Uhr Kaffee\, Kuchen\, Snacks\n\nGerne könnt ihr einen Tisch reservieren >> ZUR TISCHRESERVIERUNG \nKommt gerne vorbei\, wir freuen uns auf euch! \n \n 
URL:https://manufaktur-baier.de/event/fuer-euch-geoeffnet-donnerstag/2026-11-26/
LOCATION:manufaktur by BAIER\, manufaktur by BAIER\, Zeppelinstr. 6\, 89284 Pfaffenhofen\, Bayern\, 89284\, Germany
CATEGORIES:Essen,Trinken
END:VEVENT
BEGIN:VEVENT
DTSTART;TZID=Europe/Berlin:20261203T090000
DTEND;TZID=Europe/Berlin:20261203T220000
DTSTAMP:20260425T133034
CREATED:20260220T141839Z
LAST-MODIFIED:20260313T150137Z
UID:10000290-1796288400-1796335200@manufaktur-baier.de
SUMMARY:FÜR EUCH GEÖFFNET - DONNERSTAG
DESCRIPTION:Liebe Gäste und Kunden\, \nwir haben heute von 9-22 Uhr für euch geöffnet. \n\n9-12 Uhr Frühstück a la carte\nab 12 Uhr Kaffee\, Kuchen\, Snacks\n\nGerne könnt ihr einen Tisch reservieren >> ZUR TISCHRESERVIERUNG \nKommt gerne vorbei\, wir freuen uns auf euch! \n \n 
URL:https://manufaktur-baier.de/event/fuer-euch-geoeffnet-donnerstag/2026-12-03/
LOCATION:manufaktur by BAIER\, manufaktur by BAIER\, Zeppelinstr. 6\, 89284 Pfaffenhofen\, Bayern\, 89284\, Germany
CATEGORIES:Essen,Trinken
END:VEVENT
END:VCALENDAR