BEGIN:VCALENDAR
VERSION:2.0
PRODID:-//manufaktur by BAIER - ECPv6.15.20//NONSGML v1.0//EN
CALSCALE:GREGORIAN
METHOD:PUBLISH
X-ORIGINAL-URL:https://manufaktur-baier.de
X-WR-CALDESC:Veranstaltungen für manufaktur by BAIER
REFRESH-INTERVAL;VALUE=DURATION:PT1H
X-Robots-Tag:noindex
X-PUBLISHED-TTL:PT1H
BEGIN:VTIMEZONE
TZID:Europe/Berlin
BEGIN:DAYLIGHT
TZOFFSETFROM:+0100
TZOFFSETTO:+0200
TZNAME:CEST
DTSTART:20250330T010000
END:DAYLIGHT
BEGIN:STANDARD
TZOFFSETFROM:+0200
TZOFFSETTO:+0100
TZNAME:CET
DTSTART:20251026T010000
END:STANDARD
BEGIN:DAYLIGHT
TZOFFSETFROM:+0100
TZOFFSETTO:+0200
TZNAME:CEST
DTSTART:20260329T010000
END:DAYLIGHT
BEGIN:STANDARD
TZOFFSETFROM:+0200
TZOFFSETTO:+0100
TZNAME:CET
DTSTART:20261025T010000
END:STANDARD
BEGIN:DAYLIGHT
TZOFFSETFROM:+0100
TZOFFSETTO:+0200
TZNAME:CEST
DTSTART:20270328T010000
END:DAYLIGHT
BEGIN:STANDARD
TZOFFSETFROM:+0200
TZOFFSETTO:+0100
TZNAME:CET
DTSTART:20271031T010000
END:STANDARD
END:VTIMEZONE
BEGIN:VEVENT
DTSTART;TZID=Europe/Berlin:20260403T100100
DTEND;TZID=Europe/Berlin:20260403T120000
DTSTAMP:20260425T145506
CREATED:20260220T124610Z
LAST-MODIFIED:20260313T151849Z
UID:10000306-1775210460-1775217600@manufaktur-baier.de
SUMMARY:FRÜHSTÜCKSBUFFET
DESCRIPTION:Herzlich willkommen zum FRÜHSTÜCKSBUFFET  \nWählt euren Frühstücksplatz nach Lust und Laune und dann erwartet euch unser FRÜHSTÜCKSBUFFET liebevoll angerichtet im zauberhaften Floristikbereich. \n  \nHeiße und kalte Getränke\nl Kaffee* fair gehandelt – wahlweise mit Milch* oder Hafermilch*\nl Tee-Variationen* von Kräuter Wagener aus Pfaffenhofen\nl Orangensaft*\nl gefiltertes ionisiertes Wasser \nFrische Backwaren\nl Backwaren – Brot* & Brötchen\nl Brezeln\nl Croissants*\nl Süßgebäck* \nFür den süßen Morgen\nl selbstgemachte Pancakes*\nl Schoko-Creme*\nl Erdnussbutter*\nl Honig*\nl Marmelade* – abwechselnd 2 Sorten zur Auswahl \nKernige Power\nl verschiedene Müslivariationen* \nDie Milch macht‘s\nl Naturjoghurt*\nl Butter* \nAufstriche\nl Frischkäse* – abwechselnd 2 Sorten zur Auswahl\nl Aufstrich  – abwechselnd \nObst und Gemüse\nl Obstsalat *\nl Gemüseplatte mit Gemüse der Saison*\nl Tomate-Mozzarella-Platte* \nKäse* und Wurst\nl Käsebrett (Bergkäse*\, Weichkäse*\, Schnittkäse*)\nl Aufschnittplatte mit Wurstvariationen vom Heller Hof aus Pfaffenhofen\nl Weißwürste vom Heller Hof aus Pfaffenhofen mit süßem Senf* \nRührei* & Speck\, gekochte Eier*\nl unsere Eier* kommen vom Brandfeldhof Farion aus Ichenhausen \n  \nVeganer Special Ѵ\nLiebe Veganer\, meldet euch einfach bei unserem Servicepersonal und ihr bekommt eine Zusammenstellung veganer Leckereien Ѵ  direkt an euren Tisch. \n  \n…und dann heißt es nur noch: GENIESSEN! \nGUTEN APPETIT \n  \n28\,90 € pro Person (ab 12 J.) I 1\,50 € pro Lebensjahr Kind (bis 11 J.)\n*=Bio-zertifiziert  I  Ѵ= vegan \n_________ \nGleich euren Tisch reservieren >> zur Reservierung Frühstücksbuffet \nKommt gerne vorbei\, wir freuen uns auf euch! \n  \nFRÜHSTÜCKSBUFFET
URL:https://manufaktur-baier.de/event/fruehstuecksbuffet/2026-04-03/
LOCATION:manufaktur by BAIER\, manufaktur by BAIER\, Zeppelinstr. 6\, 89284 Pfaffenhofen\, Bayern\, 89284\, Germany
CATEGORIES:Essen
ATTACH;FMTTYPE=image/jpeg:https://manufaktur-baier.de/wp-content/uploads/2026/02/Fruehstuecksbuffet-.jpg
END:VEVENT
BEGIN:VEVENT
DTSTART;TZID=Europe/Berlin:20260329T100100
DTEND;TZID=Europe/Berlin:20260329T120000
DTSTAMP:20260425T145506
CREATED:20260220T124610Z
LAST-MODIFIED:20260313T151849Z
UID:10000201-1774778460-1774785600@manufaktur-baier.de
SUMMARY:FRÜHSTÜCKSBUFFET
DESCRIPTION:Herzlich willkommen zum FRÜHSTÜCKSBUFFET  \nWählt euren Frühstücksplatz nach Lust und Laune und dann erwartet euch unser FRÜHSTÜCKSBUFFET liebevoll angerichtet im zauberhaften Floristikbereich. \n  \nHeiße und kalte Getränke\nl Kaffee* fair gehandelt – wahlweise mit Milch* oder Hafermilch*\nl Tee-Variationen* von Kräuter Wagener aus Pfaffenhofen\nl Orangensaft*\nl gefiltertes ionisiertes Wasser \nFrische Backwaren\nl Backwaren – Brot* & Brötchen\nl Brezeln\nl Croissants*\nl Süßgebäck* \nFür den süßen Morgen\nl selbstgemachte Pancakes*\nl Schoko-Creme*\nl Erdnussbutter*\nl Honig*\nl Marmelade* – abwechselnd 2 Sorten zur Auswahl \nKernige Power\nl verschiedene Müslivariationen* \nDie Milch macht‘s\nl Naturjoghurt*\nl Butter* \nAufstriche\nl Frischkäse* – abwechselnd 2 Sorten zur Auswahl\nl Aufstrich  – abwechselnd \nObst und Gemüse\nl Obstsalat *\nl Gemüseplatte mit Gemüse der Saison*\nl Tomate-Mozzarella-Platte* \nKäse* und Wurst\nl Käsebrett (Bergkäse*\, Weichkäse*\, Schnittkäse*)\nl Aufschnittplatte mit Wurstvariationen vom Heller Hof aus Pfaffenhofen\nl Weißwürste vom Heller Hof aus Pfaffenhofen mit süßem Senf* \nRührei* & Speck\, gekochte Eier*\nl unsere Eier* kommen vom Brandfeldhof Farion aus Ichenhausen \n  \nVeganer Special Ѵ\nLiebe Veganer\, meldet euch einfach bei unserem Servicepersonal und ihr bekommt eine Zusammenstellung veganer Leckereien Ѵ  direkt an euren Tisch. \n  \n…und dann heißt es nur noch: GENIESSEN! \nGUTEN APPETIT \n  \n28\,90 € pro Person (ab 12 J.) I 1\,50 € pro Lebensjahr Kind (bis 11 J.)\n*=Bio-zertifiziert  I  Ѵ= vegan \n_________ \nGleich euren Tisch reservieren >> zur Reservierung Frühstücksbuffet \nKommt gerne vorbei\, wir freuen uns auf euch! \n  \nFRÜHSTÜCKSBUFFET
URL:https://manufaktur-baier.de/event/fruehstuecksbuffet/2026-03-29/
LOCATION:manufaktur by BAIER\, manufaktur by BAIER\, Zeppelinstr. 6\, 89284 Pfaffenhofen\, Bayern\, 89284\, Germany
CATEGORIES:Essen
ATTACH;FMTTYPE=image/jpeg:https://manufaktur-baier.de/wp-content/uploads/2026/02/Fruehstuecksbuffet-.jpg
END:VEVENT
BEGIN:VEVENT
DTSTART;TZID=Europe/Berlin:20260326T090000
DTEND;TZID=Europe/Berlin:20260326T220000
DTSTAMP:20260425T145506
CREATED:20260220T141839Z
LAST-MODIFIED:20260313T150137Z
UID:10000255-1774515600-1774562400@manufaktur-baier.de
SUMMARY:FÜR EUCH GEÖFFNET - DONNERSTAG
DESCRIPTION:Liebe Gäste und Kunden\, \nwir haben heute von 9-22 Uhr für euch geöffnet. \n\n9-12 Uhr Frühstück a la carte\nab 12 Uhr Kaffee\, Kuchen\, Snacks\n\nGerne könnt ihr einen Tisch reservieren >> ZUR TISCHRESERVIERUNG \nKommt gerne vorbei\, wir freuen uns auf euch! \n \n 
URL:https://manufaktur-baier.de/event/fuer-euch-geoeffnet-donnerstag/2026-03-26/
LOCATION:manufaktur by BAIER\, manufaktur by BAIER\, Zeppelinstr. 6\, 89284 Pfaffenhofen\, Bayern\, 89284\, Germany
CATEGORIES:Essen,Trinken
END:VEVENT
BEGIN:VEVENT
DTSTART;TZID=Europe/Berlin:20260322T100100
DTEND;TZID=Europe/Berlin:20260322T120000
DTSTAMP:20260425T145506
CREATED:20260220T124610Z
LAST-MODIFIED:20260313T151849Z
UID:10000200-1774173660-1774180800@manufaktur-baier.de
SUMMARY:FRÜHSTÜCKSBUFFET
DESCRIPTION:Herzlich willkommen zum FRÜHSTÜCKSBUFFET  \nWählt euren Frühstücksplatz nach Lust und Laune und dann erwartet euch unser FRÜHSTÜCKSBUFFET liebevoll angerichtet im zauberhaften Floristikbereich. \n  \nHeiße und kalte Getränke\nl Kaffee* fair gehandelt – wahlweise mit Milch* oder Hafermilch*\nl Tee-Variationen* von Kräuter Wagener aus Pfaffenhofen\nl Orangensaft*\nl gefiltertes ionisiertes Wasser \nFrische Backwaren\nl Backwaren – Brot* & Brötchen\nl Brezeln\nl Croissants*\nl Süßgebäck* \nFür den süßen Morgen\nl selbstgemachte Pancakes*\nl Schoko-Creme*\nl Erdnussbutter*\nl Honig*\nl Marmelade* – abwechselnd 2 Sorten zur Auswahl \nKernige Power\nl verschiedene Müslivariationen* \nDie Milch macht‘s\nl Naturjoghurt*\nl Butter* \nAufstriche\nl Frischkäse* – abwechselnd 2 Sorten zur Auswahl\nl Aufstrich  – abwechselnd \nObst und Gemüse\nl Obstsalat *\nl Gemüseplatte mit Gemüse der Saison*\nl Tomate-Mozzarella-Platte* \nKäse* und Wurst\nl Käsebrett (Bergkäse*\, Weichkäse*\, Schnittkäse*)\nl Aufschnittplatte mit Wurstvariationen vom Heller Hof aus Pfaffenhofen\nl Weißwürste vom Heller Hof aus Pfaffenhofen mit süßem Senf* \nRührei* & Speck\, gekochte Eier*\nl unsere Eier* kommen vom Brandfeldhof Farion aus Ichenhausen \n  \nVeganer Special Ѵ\nLiebe Veganer\, meldet euch einfach bei unserem Servicepersonal und ihr bekommt eine Zusammenstellung veganer Leckereien Ѵ  direkt an euren Tisch. \n  \n…und dann heißt es nur noch: GENIESSEN! \nGUTEN APPETIT \n  \n28\,90 € pro Person (ab 12 J.) I 1\,50 € pro Lebensjahr Kind (bis 11 J.)\n*=Bio-zertifiziert  I  Ѵ= vegan \n_________ \nGleich euren Tisch reservieren >> zur Reservierung Frühstücksbuffet \nKommt gerne vorbei\, wir freuen uns auf euch! \n  \nFRÜHSTÜCKSBUFFET
URL:https://manufaktur-baier.de/event/fruehstuecksbuffet/2026-03-22/
LOCATION:manufaktur by BAIER\, manufaktur by BAIER\, Zeppelinstr. 6\, 89284 Pfaffenhofen\, Bayern\, 89284\, Germany
CATEGORIES:Essen
ATTACH;FMTTYPE=image/jpeg:https://manufaktur-baier.de/wp-content/uploads/2026/02/Fruehstuecksbuffet-.jpg
END:VEVENT
BEGIN:VEVENT
DTSTART;TZID=Europe/Berlin:20260322T100000
DTEND;TZID=Europe/Berlin:20260322T190000
DTSTAMP:20260425T145506
CREATED:20260220T141707Z
LAST-MODIFIED:20260313T161436Z
UID:10000078-1774173600-1774206000@manufaktur-baier.de
SUMMARY:FÜR EUCH GEÖFFNET - SONN- & FEIERTAG
DESCRIPTION:Liebe Gäste und Kunden\, \nwir haben heute von 10-19 Uhr für euch geöffnet. \n\n10-12 Uhr Frühstücksbuffet\nab 12 Uhr Kaffee\, Kuchen\, Snacks\n\nGerne könnt ihr einen Tisch reservieren >> ZUR TISCHRESERVIERUNG \nKommt gerne vorbei\, wir freuen uns auf euch! \n \n 
URL:https://manufaktur-baier.de/event/fuer-euch-geoeffnet-sonn-feiertag/
LOCATION:manufaktur by BAIER\, manufaktur by BAIER\, Zeppelinstr. 6\, 89284 Pfaffenhofen\, Bayern\, 89284\, Germany
CATEGORIES:Essen,Trinken
END:VEVENT
BEGIN:VEVENT
DTSTART;TZID=Europe/Berlin:20260321T190000
DTEND;TZID=Europe/Berlin:20260321T210000
DTSTAMP:20260425T145506
CREATED:20260220T070547Z
LAST-MODIFIED:20260224T144638Z
UID:10000016-1774119600-1774126800@manufaktur-baier.de
SUMMARY:MUSE THE MUSIC - MANUFAKTUR OPENING
DESCRIPTION:MUSE THE MUSIC – Ein Event\, an dem Malen und Musik miteinander verschmelzen. Ein Malkurs der ganz anderen ART. \n\n\n\nUpdate: Die Tickets zum Malen sind schon alle ausgebucht\, ihr dürft gerne zum Anstoßen\, Mitfeiern und Mittanzen kommen (Eintritt frei).   \n  \n\n\n\nAm Samstag 21.03.2026 starten wir mit unserem muse the music Konzept erstmalig in der wunderschönen Location der manufaktur by BAIER in Pfaffenhofen a.d. Roth durch. \nBeginn ist um 19:00 Uhr bis ca 21:00 Uhr – den Abend kannst du dann natürlich noch gemütlich bei einem weiterem Drink in der Manufaktur ausklingen lassen. Wir freuen uns auf eine geniale kreative Zeit mit toller Stimmung. Lass dich von house music beats durch den Abend tragen\, gebe dich deinem kreativen Flow unter künstlerischen Anleitung hin und nimm dir so deine Auszeit vom Alltag. \n  \nmuse the music – ein Event erschaffen auf purer Leidenschaft. Schwer in Worte zu fassen\, das musst du selbst erlebt haben! \nIm Buchungspreis INKLUSIVE neben der tollen Location\, sind unter anderem auch:\n– 1 Glas Sekt zur Begrüßung\n– House-Beats by Milès\n– Künstler Know How by Martina Kretz (du benötigst keinerlei Vorkenntnisse!)\n– Profi Künstlermaterial wie Neon Farben\, Pinsel & Co\n– hochwertige Leinwand in der Größe 30×30 x 4 (Premium Canva!)\n– Thema Malen: abstrakte Art\n– Malschürze\n– Lichtershow\n– und natürlich gute Stimmung und jede Menge good vibes \n\nca 2 Stunden Auszeit mit Kreativität und geilen Beats\n\nDas ganze muse the music Team freut sich auf dich! \nLink zu den Tickets >> Tickets \nmeet the team auf Instagram @musethemusic \n____________________________________________ \nUpdate: Die Tickets zum Malen sind schon alle ausgebucht\, ihr dürft gerne zum Anstoßen\, Mitfeiern und Mittanzen kommen (Eintritt frei). \nVorabinfo: Das nächste MUSE THE MUSIC Event ist bereits in Planung\, es wird ein mega heißes Sommerevent geben. Save the date: Sonntag\, 14.06.26 ab 14 Uhr. Tickets ebenfalls über www.eventim-light.com \n\n\n\n\n \n\n\n\n\n\n\n\nhttps://manufaktur-baier.de/event/muse-the-music/
URL:https://manufaktur-baier.de/event/muse-the-music/
LOCATION:manufaktur by BAIER\, manufaktur by BAIER\, Zeppelinstr. 6\, 89284 Pfaffenhofen\, Bayern\, 89284\, Germany
CATEGORIES:Essen,Musik,Trinken,Workshop
ATTACH;FMTTYPE=image/jpeg:https://manufaktur-baier.de/wp-content/uploads/2026/02/WhatsApp-Image-2026-02-20-at-13.48.30.jpeg
END:VEVENT
END:VCALENDAR